
BEGIN:VCALENDAR
VERSION:2.0
PRODID:-//GFOA Alberta - ECPv6.15.20//NONSGML v1.0//EN
CALSCALE:GREGORIAN
METHOD:PUBLISH
X-ORIGINAL-URL:https://gfoa.ab.ca
X-WR-CALDESC:Events for GFOA Alberta
REFRESH-INTERVAL;VALUE=DURATION:PT1H
X-Robots-Tag:noindex
X-PUBLISHED-TTL:PT1H
BEGIN:VTIMEZONE
TZID:America/Edmonton
BEGIN:DAYLIGHT
TZOFFSETFROM:-0700
TZOFFSETTO:-0600
TZNAME:MDT
DTSTART:20240310T090000
END:DAYLIGHT
BEGIN:STANDARD
TZOFFSETFROM:-0600
TZOFFSETTO:-0700
TZNAME:MST
DTSTART:20241103T080000
END:STANDARD
BEGIN:DAYLIGHT
TZOFFSETFROM:-0700
TZOFFSETTO:-0600
TZNAME:MDT
DTSTART:20250309T090000
END:DAYLIGHT
BEGIN:STANDARD
TZOFFSETFROM:-0600
TZOFFSETTO:-0700
TZNAME:MST
DTSTART:20251102T080000
END:STANDARD
BEGIN:DAYLIGHT
TZOFFSETFROM:-0700
TZOFFSETTO:-0600
TZNAME:MDT
DTSTART:20260308T090000
END:DAYLIGHT
BEGIN:STANDARD
TZOFFSETFROM:-0600
TZOFFSETTO:-0700
TZNAME:MST
DTSTART:20261101T080000
END:STANDARD
END:VTIMEZONE
BEGIN:VEVENT
DTSTART;TZID=America/Edmonton:20250305T130000
DTEND;TZID=America/Edmonton:20250305T150000
DTSTAMP:20260423T085040
CREATED:20250227T005554Z
LAST-MODIFIED:20250227T012220Z
UID:25550033-1741179600-1741186800@gfoa.ab.ca
SUMMARY:Municipal Forums for Emerging Issues ERP Implementation
DESCRIPTION:
URL:https://gfoa.ab.ca/event/municipal-forums-for-emerging-issues-erp-implementation/
LOCATION:Zoom Virtual Webinar
CATEGORIES:GFOA Alberta Public,PDTF
ATTACH;FMTTYPE=image/png:https://gfoa.ab.ca/wp-content/uploads/2025/02/ERP-SLide.png
END:VEVENT
BEGIN:VEVENT
DTSTART;TZID=America/Edmonton:20250312T100000
DTEND;TZID=America/Edmonton:20250312T110000
DTSTAMP:20260423T085040
CREATED:20250123T091215Z
LAST-MODIFIED:20250127T222631Z
UID:25549419-1741773600-1741777200@gfoa.ab.ca
SUMMARY:Webinar: Discover How Tech & AI Are Transforming HR
DESCRIPTION:HR’s Business Case:How Tech and AI are Transforming Workplaces\n60 Minutes | Free WebinarDate: Wednesday\, 12 March\, 2025Time: 10:00AM – 11:00PM MTCredit: 1 Hour Verifiable + Certificate of Attendance  \n			\n			\n				\n				\n				\n				\n				\n				\n				\n				\n				\n				\n			\n			\n				\n				\n				\n				\n			\n				\n				\n				\n				\n				\n				\n				\n				\n				\n				\n				About the Webinar: \nRegister to attend this complimentary webinar\, March 12\, 2025\, featuring Julie Develin\, Sr. Partner HCM Advisory and Human Insights at UKG as she shares how the integration of tech and AI is transforming HR by enhancing efficiency\, improving decision-making\, and fostering a more dynamic workplace. By leveraging advanced tools and data analytics\, HR professionals can better align their strategies with organizational goals\, ultimately driving business success. \nFor Finance\, this means greater insight into the HR metrics that matter most and being able to take corrective action in advance of any developing issues. \nLearning Outcomes: \nUnderstand the impact of technology and AI on modern HR practicesIdentify key tools and technologies that are transforming HR functions\, and how to ask for themExplore strategies for effectively integrating AI and technology into HR processes to enhance organizational performance. \nWho Should Attend? \nHR professionals\, organizational leaders\, and decision-makers eager to leverage technology for transformative results. \nSpaces are limited\, so register today to secure your spot!
URL:https://gfoa.ab.ca/event/webinar-discover-how-tech-ai-are-transforming-hr/
LOCATION:Zoom Virtual Webinar
CATEGORIES:External,GFOA Alberta Live,GFOA Alberta Members Only,GFOA Alberta Public,GFOA Staff,PDTF
ATTACH;FMTTYPE=image/png:https://gfoa.ab.ca/wp-content/uploads/2025/01/WEB-BANNER.png
END:VEVENT
BEGIN:VEVENT
DTSTART;TZID=America/Edmonton:20250313T100000
DTEND;TZID=America/Edmonton:20250313T110000
DTSTAMP:20260423T085040
CREATED:20241021T215528Z
LAST-MODIFIED:20241021T215528Z
UID:25547757-1741860000-1741863600@gfoa.ab.ca
SUMMARY:Real Property - Input Tax Credits\, Self-Assessment & Rebates | Michael Monk
DESCRIPTION:
URL:https://gfoa.ab.ca/event/real-property-input-tax-credits-self-assessment-rebates-michael-monk/
LOCATION:Zoom Virtual Webinar
CATEGORIES:GFOA Alberta Public,PDTF
END:VEVENT
BEGIN:VEVENT
DTSTART;TZID=America/Edmonton:20250327T100000
DTEND;TZID=America/Edmonton:20250327T120000
DTSTAMP:20260423T085040
CREATED:20250309T070628Z
LAST-MODIFIED:20250309T070805Z
UID:25550142-1743069600-1743076800@gfoa.ab.ca
SUMMARY:Understanding Grants Better: From What Grants are to Final Reporting
DESCRIPTION:GFOA Alberta and Remarkable Grants Management Present:\n\nUnderstanding Grants Better: From What Grants are to Final Reporting\n27 March 2025 | 10:00 AM – Noon \n  \n\nBrief Introduction:\nThe workshop will aim to inform the newcomer and provide a refresh for those familiar with the key components of the grant cycle.\n\n\n\nWhat You Will Learn: \n\n\nIntroduction – the purpose and types of grants\nGrant readiness – get prepared upfront and streamline the process to make it repeatable\nFinding grants – more than research\, choose the most strategic matches\nRelationships with funders – to build and grow connections takes time and effort\nUnderstand the application process – the parts of an application and what’s their purpose\nWriting the proposal and best practices – learn clear compelling writing and how to avoid pitfalls\nHandling the wait\, the wins and the misses – funding agreements\, negotiations and learning\nCompliance and Reporting – implement the project and discuss reporting requirements\n\n\n\nWho Should Attend:\nAny municipal or government employees whose role includes\n\napplying for grants – from getting grant ready to pressing the “Send” button\ncarrying out programs or projects if grants applications are successful\nparticipating in the financial management and reporting of grants won\ncollaborating with non-profits in your community\n\n \n\nBenefits of Attending: \n\nSlides from the presentation\nWorksheets – will provide on some topics that can only be covered at a surface level\nReceive an optional follow-up coaching call – one call to a representative per organization (if more than one attends workshop).
URL:https://gfoa.ab.ca/event/understanding-grants-better-from-what-grants-are-to-final-reporting/
LOCATION:Zoom Virtual Webinar
CATEGORIES:External,GFOA Alberta Public,PDTF
ATTACH;FMTTYPE=image/png:https://gfoa.ab.ca/wp-content/uploads/2025/03/GRANT-WRITING-WEBINAR-1.png
END:VEVENT
END:VCALENDAR