
BEGIN:VCALENDAR
VERSION:2.0
PRODID:-//GFOA Alberta - ECPv6.15.20//NONSGML v1.0//EN
CALSCALE:GREGORIAN
METHOD:PUBLISH
X-WR-CALNAME:GFOA Alberta
X-ORIGINAL-URL:https://gfoa.ab.ca
X-WR-CALDESC:Events for GFOA Alberta
REFRESH-INTERVAL;VALUE=DURATION:PT1H
X-Robots-Tag:noindex
X-PUBLISHED-TTL:PT1H
BEGIN:VTIMEZONE
TZID:America/Edmonton
BEGIN:DAYLIGHT
TZOFFSETFROM:-0700
TZOFFSETTO:-0600
TZNAME:MDT
DTSTART:20250309T090000
END:DAYLIGHT
BEGIN:STANDARD
TZOFFSETFROM:-0600
TZOFFSETTO:-0700
TZNAME:MST
DTSTART:20251102T080000
END:STANDARD
BEGIN:DAYLIGHT
TZOFFSETFROM:-0700
TZOFFSETTO:-0600
TZNAME:MDT
DTSTART:20260308T090000
END:DAYLIGHT
BEGIN:STANDARD
TZOFFSETFROM:-0600
TZOFFSETTO:-0700
TZNAME:MST
DTSTART:20261101T080000
END:STANDARD
BEGIN:DAYLIGHT
TZOFFSETFROM:-0700
TZOFFSETTO:-0600
TZNAME:MDT
DTSTART:20270314T090000
END:DAYLIGHT
BEGIN:STANDARD
TZOFFSETFROM:-0600
TZOFFSETTO:-0700
TZNAME:MST
DTSTART:20271107T080000
END:STANDARD
END:VTIMEZONE
BEGIN:VEVENT
DTSTART;TZID=America/Edmonton:20260601T100000
DTEND;TZID=America/Edmonton:20260601T110000
DTSTAMP:20260422T163525
CREATED:20250723T151944Z
LAST-MODIFIED:20260408T233839Z
UID:25551400-1780308000-1780311600@gfoa.ab.ca
SUMMARY:GFOA AB & CIBC Present | Investing For Success: Investment Policy Statements for Municipal Investors
DESCRIPTION:Investment Policy Development\nJune 1st\, 2026| 10:00 AM – 11:00 AM \n\n\n\n\n\n\n\n\nBrief Introduction:\nThe Investment Policy Statement (IPS) is a document that provides guidance for the investment objectives\, restrains\, and parameters for the creation and management of a municipality’s investment portfolio. The IPS is the blueprint for the municipal investment management process. By clearly laying out all relevant goals\, guidelines\, and restrictions\, a well-written IPS equips the investment manager to build a portfolio that maximizes return while minimizing risk. Additionally\, an important benefit of an IPS is the layer of objectivity that it adds to the investment process.\ni
URL:https://gfoa.ab.ca/event/gfoa-ab-cibc-present-investment-policy-development/
LOCATION:Zoom Virtual Webinar
CATEGORIES:GFOA Alberta Public,PDTF
END:VEVENT
BEGIN:VEVENT
DTSTART;TZID=America/Edmonton:20260611T100000
DTEND;TZID=America/Edmonton:20260611T110000
DTSTAMP:20260422T163525
CREATED:20250723T153533Z
LAST-MODIFIED:20260408T233739Z
UID:25551408-1781172000-1781175600@gfoa.ab.ca
SUMMARY:GFOA Alberta & Elevate the Path Present | Leadership and Accountability in the Public Sector
DESCRIPTION:
URL:https://gfoa.ab.ca/event/gfoa-alberta-elevate-the-path-present-leadership-and-accountability-in-the-public-sector/
LOCATION:Zoom Virtual Webinar
CATEGORIES:GFOA Alberta Public,PDTF
END:VEVENT
END:VCALENDAR