
BEGIN:VCALENDAR
VERSION:2.0
PRODID:-//GFOA Alberta - ECPv6.15.20//NONSGML v1.0//EN
CALSCALE:GREGORIAN
METHOD:PUBLISH
X-WR-CALNAME:GFOA Alberta
X-ORIGINAL-URL:https://gfoa.ab.ca
X-WR-CALDESC:Events for GFOA Alberta
REFRESH-INTERVAL;VALUE=DURATION:PT1H
X-Robots-Tag:noindex
X-PUBLISHED-TTL:PT1H
BEGIN:VTIMEZONE
TZID:America/Edmonton
BEGIN:DAYLIGHT
TZOFFSETFROM:-0700
TZOFFSETTO:-0600
TZNAME:MDT
DTSTART:20240310T090000
END:DAYLIGHT
BEGIN:STANDARD
TZOFFSETFROM:-0600
TZOFFSETTO:-0700
TZNAME:MST
DTSTART:20241103T080000
END:STANDARD
BEGIN:DAYLIGHT
TZOFFSETFROM:-0700
TZOFFSETTO:-0600
TZNAME:MDT
DTSTART:20250309T090000
END:DAYLIGHT
BEGIN:STANDARD
TZOFFSETFROM:-0600
TZOFFSETTO:-0700
TZNAME:MST
DTSTART:20251102T080000
END:STANDARD
BEGIN:DAYLIGHT
TZOFFSETFROM:-0700
TZOFFSETTO:-0600
TZNAME:MDT
DTSTART:20260308T090000
END:DAYLIGHT
BEGIN:STANDARD
TZOFFSETFROM:-0600
TZOFFSETTO:-0700
TZNAME:MST
DTSTART:20261101T080000
END:STANDARD
BEGIN:DAYLIGHT
TZOFFSETFROM:-0700
TZOFFSETTO:-0600
TZNAME:MDT
DTSTART:20270314T090000
END:DAYLIGHT
BEGIN:STANDARD
TZOFFSETFROM:-0600
TZOFFSETTO:-0700
TZNAME:MST
DTSTART:20271107T080000
END:STANDARD
END:VTIMEZONE
BEGIN:VTIMEZONE
TZID:UTC
BEGIN:STANDARD
TZOFFSETFROM:+0000
TZOFFSETTO:+0000
TZNAME:UTC
DTSTART:20240101T000000
END:STANDARD
END:VTIMEZONE
BEGIN:VEVENT
DTSTART;TZID=America/Edmonton:20250410T100000
DTEND;TZID=America/Edmonton:20250410T120000
DTSTAMP:20260424T001227
CREATED:20250226T235309Z
LAST-MODIFIED:20250227T005827Z
UID:25550030-1744279200-1744286400@gfoa.ab.ca
SUMMARY:Records Management Best Practices: Navigating Digital Transformation in the Public Sector
DESCRIPTION:
URL:https://gfoa.ab.ca/event/records-management-best-practices-navigating-digital-transformation-in-the-public-sector/
LOCATION:Zoom Virtual Webinar
CATEGORIES:GFOA Alberta Public,PDTF
END:VEVENT
BEGIN:VEVENT
DTSTART;TZID=America/Edmonton:20250812T100000
DTEND;TZID=America/Edmonton:20250812T110000
DTSTAMP:20260424T001227
CREATED:20250324T231802Z
LAST-MODIFIED:20250723T145608Z
UID:25550374-1754992800-1754996400@gfoa.ab.ca
SUMMARY:GFOA Alberta | Deloitte Present Financial Leadership in the Public Sector
DESCRIPTION:Register Today\n			\n				\n				\n				\n				\n				Over the past decade many converging social\, financial\, policy\, and technological pressures have increased the complexity of municipal operations. As complexity has increased\, so have the demands on the finance function. This session will explore how Deloitte uses the Four Faces of Finance framework to better articulate how finance leaders spend their time and the investments needed to better align that team with stakeholder objectives. This session is for any finance leader who feels like they don’t have the time to do everything on their list. \nWhat You Will Learn \n• How expectations for finance professionals have changed over time• What senior administrators and elected officials expect from finance leaders• How to articulate the time that finance spends in different areas • Strategies for freeing up time for strategic activities that stakeholders value \nWho Should Attend \nThis webinar is designed for: \n• Finance leaders in municipal government (CFO\, Director of Corporate Services\, Corporate Controller\, etc).• Finance professionals who aspire to hold leadership roles in the future • Senior stakeholders who routinely engage with finance as an end user \n\nBenefits of Attending \nParticipants can expect to: \n• Gain insight from leading finance functions that enable a productive workforce to focus on strategic activities• Understand how to articulate where time is spent in the language of key stakeholders• Learn how to articulate the investments needed to unlock more time from finance professionals \n \nAbout Your PresenterDarren Liviniuk – Deloitte \nDarren is a Partner in Deloitte’s Government & Public Services practice based in Edmonton. Darren serves provincial\, municipal\, and indigenous governments across Western Canada. Darren focuses on working with government leaders to develop the confidence needed in financial information to make great decisions. Darren is a regular speaker on topics such as finance leadership\, financial governance\, and value-for-money for organizations such as CPA Alberta and GFOA Alberta. \nDarren will be joined by additional Deloitte professionals who work with government finance leaders across Canada. \n			\n				Register Today
URL:https://gfoa.ab.ca/event/deloitte-financial-leadership-public-sector/
LOCATION:Zoom Virtual Webinar
CATEGORIES:GFOA Alberta Public,PDTF
ATTACH;FMTTYPE=image/jpeg:https://gfoa.ab.ca/wp-content/uploads/2025/03/CTWO-PART-SERIES-1.jpg
END:VEVENT
BEGIN:VEVENT
DTSTART;TZID=America/Edmonton:20250904T100000
DTEND;TZID=America/Edmonton:20250904T110000
DTSTAMP:20260424T001227
CREATED:20250724T172835Z
LAST-MODIFIED:20250724T172835Z
UID:25551417-1756980000-1756983600@gfoa.ab.ca
SUMMARY:GFOA Alberta & CRA Present | Self Assessment Obligations with Michael Monk
DESCRIPTION:
URL:https://gfoa.ab.ca/event/gfoa-alberta-cra-present-self-assessment-obligations-with-michael-monk/
LOCATION:Zoom Virtual Webinar
CATEGORIES:GFOA Alberta Public,PDTF
END:VEVENT
BEGIN:VEVENT
DTSTART;TZID=America/Edmonton:20250910T100000
DTEND;TZID=America/Edmonton:20250910T110000
DTSTAMP:20260424T001227
CREATED:20250717T202713Z
LAST-MODIFIED:20250807T094646Z
UID:25551354-1757498400-1757502000@gfoa.ab.ca
SUMMARY:GFOA & Tantus Present |  Data Readiness Prior to an ERP Change
DESCRIPTION:
URL:https://gfoa.ab.ca/event/gfoa-tantus-present-data-readiness-prior-to-an-erp-change/
LOCATION:Zoom Virtual Webinar
CATEGORIES:GFOA Alberta Public,PDTF
ATTACH;FMTTYPE=image/png:https://gfoa.ab.ca/wp-content/uploads/2025/08/TANTUS-WEBINAR-SEPT-10-1.png
END:VEVENT
BEGIN:VEVENT
DTSTART;TZID=America/Edmonton:20251002T100000
DTEND;TZID=America/Edmonton:20251002T110000
DTSTAMP:20260424T001227
CREATED:20250724T175135Z
LAST-MODIFIED:20250807T094744Z
UID:25551419-1759399200-1759402800@gfoa.ab.ca
SUMMARY:GFOA Alberta & CRA Present | Intra Municipal and Inter Municipal Supplies with Michael Monk
DESCRIPTION:
URL:https://gfoa.ab.ca/event/gfoa-alberta-cra-present-intra-municipal-and-inter-municipal-supplies-with-michael-monk/
LOCATION:Zoom Virtual Webinar
CATEGORIES:GFOA Alberta Public,PDTF
END:VEVENT
BEGIN:VEVENT
DTSTART;TZID=UTC:20251007T100000
DTEND;TZID=UTC:20251007T110000
DTSTAMP:20260424T001227
CREATED:20250717T202956Z
LAST-MODIFIED:20251006T081952Z
UID:25551357-1759831200-1759834800@gfoa.ab.ca
SUMMARY:GFOA & Catalyst Present |  Presenting Financial Info to Council
DESCRIPTION:
URL:https://gfoa.ab.ca/event/gfoa-catalyst-present-presenting-financial-info-to-council/
LOCATION:Zoom Virtual Webinar
CATEGORIES:GFOA Alberta Public,PDTF
END:VEVENT
BEGIN:VEVENT
DTSTART;TZID=America/Edmonton:20251016T100000
DTEND;TZID=America/Edmonton:20251016T110000
DTSTAMP:20260424T001227
CREATED:20251006T081704Z
LAST-MODIFIED:20251006T082025Z
UID:25552049-1760608800-1760612400@gfoa.ab.ca
SUMMARY:GFOA Alberta | FH Black Present Streamlining Municipal Reporting with ARLO
DESCRIPTION:
URL:https://gfoa.ab.ca/event/gfoa-alberta-fh-black-present-streamlining-municipal-reporting-with-arlo/
LOCATION:Zoom Virtual Webinar
CATEGORIES:GFOA Alberta Public,PDTF
END:VEVENT
BEGIN:VEVENT
DTSTART;TZID=America/Edmonton:20251030T100000
DTEND;TZID=America/Edmonton:20251030T110000
DTSTAMP:20260424T001227
CREATED:20250724T175314Z
LAST-MODIFIED:20250907T130446Z
UID:25551421-1761818400-1761822000@gfoa.ab.ca
SUMMARY:GFOA Alberta & CRA Present |  Special Quick Method of Accounting for PSBs with Michael Monk
DESCRIPTION:
URL:https://gfoa.ab.ca/event/gfoa-alberta-cra-present-special-quick-method-of-accounting-for-psbs-with-michael-monk/
LOCATION:Zoom Virtual Webinar
CATEGORIES:GFOA Alberta Public,PDTF
END:VEVENT
BEGIN:VEVENT
DTSTART;TZID=America/Edmonton:20251106T100000
DTEND;TZID=America/Edmonton:20251106T110000
DTSTAMP:20260424T001227
CREATED:20251006T082326Z
LAST-MODIFIED:20251006T082326Z
UID:25552054-1762423200-1762426800@gfoa.ab.ca
SUMMARY:GFOA Alberta | Pellera Technologies Present Budgeting and Planning for Public Sector Organizations
DESCRIPTION:
URL:https://gfoa.ab.ca/event/gfoa-alberta-pellera-technologies-present-budgeting-and-planning-for-public-sector-organizations/
LOCATION:Zoom Virtual Webinar
CATEGORIES:GFOA Alberta Public,PDTF
END:VEVENT
BEGIN:VEVENT
DTSTART;TZID=UTC:20251113T100000
DTEND;TZID=UTC:20251113T110000
DTSTAMP:20260424T001227
CREATED:20250717T203142Z
LAST-MODIFIED:20251006T082515Z
UID:25551360-1763028000-1763031600@gfoa.ab.ca
SUMMARY:GFOA & Deloitte Present | Gen AI / AI Governance
DESCRIPTION:
URL:https://gfoa.ab.ca/event/gfoa-deloitte-present-gen-ai-ai-governance/
LOCATION:Zoom Virtual Webinar
CATEGORIES:GFOA Alberta Public,PDTF
END:VEVENT
BEGIN:VEVENT
DTSTART;TZID=America/Edmonton:20251125T100000
DTEND;TZID=America/Edmonton:20251125T120000
DTSTAMP:20260424T001227
CREATED:20251006T083850Z
LAST-MODIFIED:20251006T083850Z
UID:25552066-1764064800-1764072000@gfoa.ab.ca
SUMMARY:GFOA Alberta | Deloitte Present Ethics in the Public Sector
DESCRIPTION:
URL:https://gfoa.ab.ca/event/gfoa-alberta-deloitte-present-ethics-in-the-public-sector/
LOCATION:Zoom Virtual Webinar
CATEGORIES:GFOA Alberta Members Only,GFOA Alberta Public,PDTF
END:VEVENT
BEGIN:VEVENT
DTSTART;TZID=America/Edmonton:20251204T100000
DTEND;TZID=America/Edmonton:20251204T110000
DTSTAMP:20260424T001227
CREATED:20250724T175503Z
LAST-MODIFIED:20250724T175503Z
UID:25551423-1764842400-1764846000@gfoa.ab.ca
SUMMARY:GFOA Alberta & CRA Present | Fair and Reasonable Input Tax Credit Allocation Methods with Michael Monk
DESCRIPTION:
URL:https://gfoa.ab.ca/event/gfoa-alberta-cra-present-fair-and-reasonable-input-tax-credit-allocation-methods-with-michael-monk/
LOCATION:Zoom Virtual Webinar
CATEGORIES:GFOA Alberta Public,PDTF
END:VEVENT
BEGIN:VEVENT
DTSTART;TZID=America/Edmonton:20251209T100000
DTEND;TZID=America/Edmonton:20251209T110000
DTSTAMP:20260424T001227
CREATED:20250717T211430Z
LAST-MODIFIED:20250817T201635Z
UID:25551364-1765274400-1765278000@gfoa.ab.ca
SUMMARY:GFOA AB & BDO Present |  The New Conceptual Framework Standard
DESCRIPTION:
URL:https://gfoa.ab.ca/event/gfoa-ab-cibc-present-investment-policy-development-2/
LOCATION:Zoom Virtual Webinar
CATEGORIES:GFOA Alberta Public,PDTF
END:VEVENT
BEGIN:VEVENT
DTSTART;TZID=America/Edmonton:20260122T100000
DTEND;TZID=America/Edmonton:20260122T110000
DTSTAMP:20260424T001227
CREATED:20250724T175720Z
LAST-MODIFIED:20250926T160832Z
UID:25551425-1769076000-1769079600@gfoa.ab.ca
SUMMARY:GFOA Alberta & CRA Present | Interest and Penalty with Michael Monk
DESCRIPTION:
URL:https://gfoa.ab.ca/event/gfoa-alberta-cra-present-interest-and-penalty-with-michael-monk/
LOCATION:Zoom Virtual Webinar
CATEGORIES:GFOA Alberta Public,PDTF
END:VEVENT
BEGIN:VEVENT
DTSTART;TZID=America/Edmonton:20260212T100000
DTEND;TZID=America/Edmonton:20260212T110000
DTSTAMP:20260424T001227
CREATED:20250723T153154Z
LAST-MODIFIED:20250817T205000Z
UID:25551404-1770890400-1770894000@gfoa.ab.ca
SUMMARY:GFOA Alberta & Deloitte Present | Sustainability Reporting in the Public Sector
DESCRIPTION:
URL:https://gfoa.ab.ca/event/gfoa-alberta-deloitte-present-sustainability-reporting-in-the-public-sector/
LOCATION:Zoom Virtual Webinar
CATEGORIES:GFOA Alberta Public,PDTF
END:VEVENT
BEGIN:VEVENT
DTSTART;TZID=America/Edmonton:20260219T100000
DTEND;TZID=America/Edmonton:20260219T110000
DTSTAMP:20260424T001227
CREATED:20250724T175841Z
LAST-MODIFIED:20260128T130737Z
UID:25551427-1771495200-1771498800@gfoa.ab.ca
SUMMARY:GFOA Alberta & CRA Present |  Intro for Municipalities About Non-Profit Organizations and How They Differ from Municipalities
DESCRIPTION:
URL:https://gfoa.ab.ca/event/gfoa-alberta-cra-present-intro-for-municipalities-about-non-profit-organizations-and-how-they-differ-from-municipalities/
LOCATION:Zoom Virtual Webinar
CATEGORIES:GFOA Alberta Public,PDTF
END:VEVENT
BEGIN:VEVENT
DTSTART;TZID=America/Edmonton:20260305T100000
DTEND;TZID=America/Edmonton:20260305T110000
DTSTAMP:20260424T001227
CREATED:20250724T180006Z
LAST-MODIFIED:20250724T180006Z
UID:25551429-1772704800-1772708400@gfoa.ab.ca
SUMMARY:GFOA Alberta & CRA Present | Transfer Payments with Michael Monk
DESCRIPTION:
URL:https://gfoa.ab.ca/event/gfoa-alberta-cra-present-transfer-payments-with-michael-monk/
LOCATION:Zoom Virtual Webinar
CATEGORIES:GFOA Alberta Public,PDTF
END:VEVENT
BEGIN:VEVENT
DTSTART;TZID=America/Edmonton:20260310T100000
DTEND;TZID=America/Edmonton:20260310T110000
DTSTAMP:20260424T001227
CREATED:20250723T153346Z
LAST-MODIFIED:20260207T173211Z
UID:25551406-1773136800-1773140400@gfoa.ab.ca
SUMMARY:GFOA Alberta & Tantus Present | Cyber Security: From Breach to Resilience
DESCRIPTION:
URL:https://gfoa.ab.ca/event/gfoa-alberta-tantus-present-cyber-security/
LOCATION:Zoom Virtual Webinar
CATEGORIES:GFOA Alberta Public,PDTF
END:VEVENT
BEGIN:VEVENT
DTSTART;TZID=America/Edmonton:20260601T100000
DTEND;TZID=America/Edmonton:20260601T110000
DTSTAMP:20260424T001227
CREATED:20250723T151944Z
LAST-MODIFIED:20260408T233839Z
UID:25551400-1780308000-1780311600@gfoa.ab.ca
SUMMARY:GFOA AB & CIBC Present | Investing For Success: Investment Policy Statements for Municipal Investors
DESCRIPTION:Investment Policy Development\nJune 1st\, 2026| 10:00 AM – 11:00 AM \n\n\n\n\n\n\n\n\nBrief Introduction:\nThe Investment Policy Statement (IPS) is a document that provides guidance for the investment objectives\, restrains\, and parameters for the creation and management of a municipality’s investment portfolio. The IPS is the blueprint for the municipal investment management process. By clearly laying out all relevant goals\, guidelines\, and restrictions\, a well-written IPS equips the investment manager to build a portfolio that maximizes return while minimizing risk. Additionally\, an important benefit of an IPS is the layer of objectivity that it adds to the investment process.\ni
URL:https://gfoa.ab.ca/event/gfoa-ab-cibc-present-investment-policy-development/
LOCATION:Zoom Virtual Webinar
CATEGORIES:GFOA Alberta Public,PDTF
END:VEVENT
BEGIN:VEVENT
DTSTART;TZID=America/Edmonton:20260611T100000
DTEND;TZID=America/Edmonton:20260611T110000
DTSTAMP:20260424T001227
CREATED:20250723T153533Z
LAST-MODIFIED:20260408T233739Z
UID:25551408-1781172000-1781175600@gfoa.ab.ca
SUMMARY:GFOA Alberta & Elevate the Path Present | Leadership and Accountability in the Public Sector
DESCRIPTION:
URL:https://gfoa.ab.ca/event/gfoa-alberta-elevate-the-path-present-leadership-and-accountability-in-the-public-sector/
LOCATION:Zoom Virtual Webinar
CATEGORIES:GFOA Alberta Public,PDTF
END:VEVENT
END:VCALENDAR