
BEGIN:VCALENDAR
VERSION:2.0
PRODID:-//GFOA Alberta - ECPv6.15.20//NONSGML v1.0//EN
CALSCALE:GREGORIAN
METHOD:PUBLISH
X-WR-CALNAME:GFOA Alberta
X-ORIGINAL-URL:https://gfoa.ab.ca
X-WR-CALDESC:Events for GFOA Alberta
REFRESH-INTERVAL;VALUE=DURATION:PT1H
X-Robots-Tag:noindex
X-PUBLISHED-TTL:PT1H
BEGIN:VTIMEZONE
TZID:UTC
BEGIN:STANDARD
TZOFFSETFROM:+0000
TZOFFSETTO:+0000
TZNAME:UTC
DTSTART:20240101T000000
END:STANDARD
END:VTIMEZONE
BEGIN:VEVENT
DTSTART;TZID=UTC:20250629T080000
DTEND;TZID=UTC:20250702T170000
DTSTAMP:20260423T033506
CREATED:20241101T211010Z
LAST-MODIFIED:20250717T203919Z
UID:25547921-1751184000-1751475600@gfoa.ab.ca
SUMMARY:GFOA International Annual Conference 2025
DESCRIPTION:
URL:https://gfoa.ab.ca/event/gfoa-international-annual-conference-2025/
LOCATION:GFOA Int’l
CATEGORIES:External,GFOA Alberta Public
END:VEVENT
END:VCALENDAR