
BEGIN:VCALENDAR
VERSION:2.0
PRODID:-//GFOA Alberta - ECPv6.15.20//NONSGML v1.0//EN
CALSCALE:GREGORIAN
METHOD:PUBLISH
X-ORIGINAL-URL:https://gfoa.ab.ca
X-WR-CALDESC:Events for GFOA Alberta
REFRESH-INTERVAL;VALUE=DURATION:PT1H
X-Robots-Tag:noindex
X-PUBLISHED-TTL:PT1H
BEGIN:VTIMEZONE
TZID:America/Edmonton
BEGIN:DAYLIGHT
TZOFFSETFROM:-0700
TZOFFSETTO:-0600
TZNAME:MDT
DTSTART:20230312T090000
END:DAYLIGHT
BEGIN:STANDARD
TZOFFSETFROM:-0600
TZOFFSETTO:-0700
TZNAME:MST
DTSTART:20231105T080000
END:STANDARD
BEGIN:DAYLIGHT
TZOFFSETFROM:-0700
TZOFFSETTO:-0600
TZNAME:MDT
DTSTART:20240310T090000
END:DAYLIGHT
BEGIN:STANDARD
TZOFFSETFROM:-0600
TZOFFSETTO:-0700
TZNAME:MST
DTSTART:20241103T080000
END:STANDARD
BEGIN:DAYLIGHT
TZOFFSETFROM:-0700
TZOFFSETTO:-0600
TZNAME:MDT
DTSTART:20250309T090000
END:DAYLIGHT
BEGIN:STANDARD
TZOFFSETFROM:-0600
TZOFFSETTO:-0700
TZNAME:MST
DTSTART:20251102T080000
END:STANDARD
END:VTIMEZONE
BEGIN:VEVENT
DTSTART;TZID=America/Edmonton:20241120T100000
DTEND;TZID=America/Edmonton:20241120T113000
DTSTAMP:20260423T164119
CREATED:20241019T140409Z
LAST-MODIFIED:20241105T055827Z
UID:25547685-1732096800-1732102200@gfoa.ab.ca
SUMMARY:Best Practices Preparing Your Municipal Audit | Stephanie Porter
DESCRIPTION:
URL:https://gfoa.ab.ca/event/best-practices-preparing-your-municipal-audit-stephanie-porter/
LOCATION:Zoom Virtual Webinar
CATEGORIES:GFOA Alberta Public,PDTF
END:VEVENT
END:VCALENDAR