
BEGIN:VCALENDAR
VERSION:2.0
PRODID:-//GFOA Alberta - ECPv6.15.20//NONSGML v1.0//EN
CALSCALE:GREGORIAN
METHOD:PUBLISH
X-WR-CALNAME:GFOA Alberta
X-ORIGINAL-URL:https://gfoa.ab.ca
X-WR-CALDESC:Events for GFOA Alberta
REFRESH-INTERVAL;VALUE=DURATION:PT1H
X-Robots-Tag:noindex
X-PUBLISHED-TTL:PT1H
BEGIN:VTIMEZONE
TZID:UTC
BEGIN:STANDARD
TZOFFSETFROM:+0000
TZOFFSETTO:+0000
TZNAME:UTC
DTSTART:20230101T000000
END:STANDARD
END:VTIMEZONE
BEGIN:VEVENT
DTSTART;TZID=UTC:20241114T100000
DTEND;TZID=UTC:20241114T110000
DTSTAMP:20260423T164017
CREATED:20241018T164549Z
LAST-MODIFIED:20241018T164549Z
UID:25547644-1731578400-1731582000@gfoa.ab.ca
SUMMARY:Transfer Payments and GST | Michael Monk
DESCRIPTION:
URL:https://gfoa.ab.ca/event/transfer-payments-and-gst-michael-monk/
LOCATION:Zoom Virtual Webinar
CATEGORIES:GFOA Alberta Public,PDTF
END:VEVENT
END:VCALENDAR