
BEGIN:VCALENDAR
VERSION:2.0
PRODID:-//GFOA Alberta - ECPv6.15.20//NONSGML v1.0//EN
CALSCALE:GREGORIAN
METHOD:PUBLISH
X-ORIGINAL-URL:https://gfoa.ab.ca
X-WR-CALDESC:Events for GFOA Alberta
REFRESH-INTERVAL;VALUE=DURATION:PT1H
X-Robots-Tag:noindex
X-PUBLISHED-TTL:PT1H
BEGIN:VTIMEZONE
TZID:UTC
BEGIN:STANDARD
TZOFFSETFROM:+0000
TZOFFSETTO:+0000
TZNAME:UTC
DTSTART:20230101T000000
END:STANDARD
END:VTIMEZONE
BEGIN:VEVENT
DTSTART;TZID=UTC:20241105T140000
DTEND;TZID=UTC:20241105T160000
DTSTAMP:20260423T164114
CREATED:20241018T164203Z
LAST-MODIFIED:20241021T215056Z
UID:25547639-1730815200-1730822400@gfoa.ab.ca
SUMMARY:Ethics in the Public Sector Part One | Darren Liviniuk | Calgary Only
DESCRIPTION:
URL:https://gfoa.ab.ca/event/ethics-in-the-public-sector-part-one-darren-liviniuk/
LOCATION:Zoom Virtual Webinar
CATEGORIES:PDTF
END:VEVENT
END:VCALENDAR